BEGIN:VCALENDAR
VERSION:2.0
PRODID:-//Visit Jay County - ECPv6.15.20//NONSGML v1.0//EN
CALSCALE:GREGORIAN
METHOD:PUBLISH
X-ORIGINAL-URL:https://visitjaycounty.com
X-WR-CALDESC:Events for Visit Jay County
REFRESH-INTERVAL;VALUE=DURATION:PT1H
X-Robots-Tag:noindex
X-PUBLISHED-TTL:PT1H
BEGIN:VTIMEZONE
TZID:America/Indiana/Indianapolis
BEGIN:DAYLIGHT
TZOFFSETFROM:-0500
TZOFFSETTO:-0400
TZNAME:EDT
DTSTART:20240310T070000
END:DAYLIGHT
BEGIN:STANDARD
TZOFFSETFROM:-0400
TZOFFSETTO:-0500
TZNAME:EST
DTSTART:20241103T060000
END:STANDARD
BEGIN:DAYLIGHT
TZOFFSETFROM:-0500
TZOFFSETTO:-0400
TZNAME:EDT
DTSTART:20250309T070000
END:DAYLIGHT
BEGIN:STANDARD
TZOFFSETFROM:-0400
TZOFFSETTO:-0500
TZNAME:EST
DTSTART:20251102T060000
END:STANDARD
BEGIN:DAYLIGHT
TZOFFSETFROM:-0500
TZOFFSETTO:-0400
TZNAME:EDT
DTSTART:20260308T070000
END:DAYLIGHT
BEGIN:STANDARD
TZOFFSETFROM:-0400
TZOFFSETTO:-0500
TZNAME:EST
DTSTART:20261101T060000
END:STANDARD
END:VTIMEZONE
BEGIN:VEVENT
DTSTART;TZID=America/Indiana/Indianapolis:20250301T120000
DTEND;TZID=America/Indiana/Indianapolis:20250301T170000
DTSTAMP:20260422T232339
CREATED:20210930T054959Z
LAST-MODIFIED:20220413T061334Z
UID:10000052-1740830400-1740848400@visitjaycounty.com
SUMMARY:Museum of the Soldier
DESCRIPTION:Exhibits include WWI\, WWII\, Vietnam\, Desert Storm and more. First & Third Weekends\, Sat & Sun 12pm-5pm.
URL:https://visitjaycounty.com/event/museum-of-the-soldier/2025-03-01/
LOCATION:IN
ATTACH;FMTTYPE=image/jpeg:https://visitjaycounty.com/wp-content/uploads/museum-soldier.jpeg
END:VEVENT
BEGIN:VEVENT
DTSTART;TZID=America/Indiana/Indianapolis:20250302T120000
DTEND;TZID=America/Indiana/Indianapolis:20250302T170000
DTSTAMP:20260422T232339
CREATED:20230401T184804Z
LAST-MODIFIED:20230401T184804Z
UID:10000138-1740916800-1740934800@visitjaycounty.com
SUMMARY:Museum of the Soldier
DESCRIPTION:Exhibits include WWI\, WWII\, Vietnam\, Desert Storm and more. First & Third Weekends\, Sat & Sun 12pm-5pm.
URL:https://visitjaycounty.com/event/museum-of-the-soldier/2025-03-02/
LOCATION:IN
ATTACH;FMTTYPE=image/jpeg:https://visitjaycounty.com/wp-content/uploads/museum-soldier.jpeg
END:VEVENT
BEGIN:VEVENT
DTSTART;TZID=America/Indiana/Indianapolis:20250307T100000
DTEND;TZID=America/Indiana/Indianapolis:20250307T170000
DTSTAMP:20260422T232339
CREATED:20250103T153559Z
LAST-MODIFIED:20250103T153621Z
UID:10000510-1741341600-1741366800@visitjaycounty.com
SUMMARY:Fiber Arts Festival
DESCRIPTION:2-day event for all fiber enthusiasts. Demonstrations\, vendors\, classes\, lectures and kids’ area.
URL:https://visitjaycounty.com/event/fiber-arts-festival-7/
LOCATION:Jay Community Center\, 115 E Water Street\, Portland\, Indiana\, 47371
ATTACH;FMTTYPE=image/jpeg:https://visitjaycounty.com/wp-content/uploads/FIBER-FEST-1.1-e1735918530449.jpg
ORGANIZER;CN="Jay County Tourism":MAILTO:director@visitjaycounty.com
END:VEVENT
BEGIN:VEVENT
DTSTART;TZID=America/Indiana/Indianapolis:20250308T090000
DTEND;TZID=America/Indiana/Indianapolis:20250308T160000
DTSTAMP:20260422T232339
CREATED:20250103T154240Z
LAST-MODIFIED:20250103T154622Z
UID:10000512-1741424400-1741449600@visitjaycounty.com
SUMMARY:Fiber Arts Festival
DESCRIPTION:2-day event for all fiber enthusiasts. Demonstrations\, vendors\, classes\, lectures and kids’ area.
URL:https://visitjaycounty.com/event/fiber-arts-festival-8/
LOCATION:Jay Community Center\, 115 E Water Street\, Portland\, Indiana\, 47371
ATTACH;FMTTYPE=image/jpeg:https://visitjaycounty.com/wp-content/uploads/PICTURES-FOR-COUNTRY-REGISTER-e1735919139854.jpg
ORGANIZER;CN="Jay County Tourism":MAILTO:director@visitjaycounty.com
END:VEVENT
BEGIN:VEVENT
DTSTART;TZID=America/Indiana/Indianapolis:20250315T120000
DTEND;TZID=America/Indiana/Indianapolis:20250315T170000
DTSTAMP:20260422T232339
CREATED:20230401T184804Z
LAST-MODIFIED:20230401T184804Z
UID:10000096-1742040000-1742058000@visitjaycounty.com
SUMMARY:Museum of the Soldier
DESCRIPTION:Exhibits include WWI\, WWII\, Vietnam\, Desert Storm and more. First & Third Weekends\, Sat & Sun 12pm-5pm.
URL:https://visitjaycounty.com/event/museum-of-the-soldier/2025-03-15/
LOCATION:IN
ATTACH;FMTTYPE=image/jpeg:https://visitjaycounty.com/wp-content/uploads/museum-soldier.jpeg
END:VEVENT
BEGIN:VEVENT
DTSTART;TZID=America/Indiana/Indianapolis:20250326T080000
DTEND;TZID=America/Indiana/Indianapolis:20250326T170000
DTSTAMP:20260422T232339
CREATED:20250326T161022Z
LAST-MODIFIED:20250326T161040Z
UID:10000522-1742976000-1743008400@visitjaycounty.com
SUMMARY:Arch Bridge Kroozers
DESCRIPTION:Spring KROOZEN at the Courthouse.
URL:https://visitjaycounty.com/event/arch-bridge-kroozers/
LOCATION:Jay County Courthouse\, 120 N Court St\, Portland\, 47371
ATTACH;FMTTYPE=image/jpeg:https://visitjaycounty.com/wp-content/uploads/ARCH-BRIDGE-KROOZERS-e1743005406213.jpg
END:VEVENT
END:VCALENDAR