BEGIN:VCALENDAR
VERSION:2.0
PRODID:-//Visit Jay County - ECPv6.15.20//NONSGML v1.0//EN
CALSCALE:GREGORIAN
METHOD:PUBLISH
X-ORIGINAL-URL:https://visitjaycounty.com
X-WR-CALDESC:Events for Visit Jay County
REFRESH-INTERVAL;VALUE=DURATION:PT1H
X-Robots-Tag:noindex
X-PUBLISHED-TTL:PT1H
BEGIN:VTIMEZONE
TZID:America/Indiana/Indianapolis
BEGIN:DAYLIGHT
TZOFFSETFROM:-0500
TZOFFSETTO:-0400
TZNAME:EDT
DTSTART:20230312T070000
END:DAYLIGHT
BEGIN:STANDARD
TZOFFSETFROM:-0400
TZOFFSETTO:-0500
TZNAME:EST
DTSTART:20231105T060000
END:STANDARD
BEGIN:DAYLIGHT
TZOFFSETFROM:-0500
TZOFFSETTO:-0400
TZNAME:EDT
DTSTART:20240310T070000
END:DAYLIGHT
BEGIN:STANDARD
TZOFFSETFROM:-0400
TZOFFSETTO:-0500
TZNAME:EST
DTSTART:20241103T060000
END:STANDARD
BEGIN:DAYLIGHT
TZOFFSETFROM:-0500
TZOFFSETTO:-0400
TZNAME:EDT
DTSTART:20250309T070000
END:DAYLIGHT
BEGIN:STANDARD
TZOFFSETFROM:-0400
TZOFFSETTO:-0500
TZNAME:EST
DTSTART:20251102T060000
END:STANDARD
END:VTIMEZONE
BEGIN:VEVENT
DTSTART;TZID=America/Indiana/Indianapolis:20240803T110000
DTEND;TZID=America/Indiana/Indianapolis:20240803T150000
DTSTAMP:20260422T232342
CREATED:20240522T184022Z
LAST-MODIFIED:20240522T184044Z
UID:10000485-1722682800-1722697200@visitjaycounty.com
SUMMARY:Harness Racing
DESCRIPTION:
URL:https://visitjaycounty.com/event/harness-racing/
LOCATION:Jay County Fairgrounds\, 806 E Votaw St\, Portland\, IN\, 47371\, United States
ATTACH;FMTTYPE=image/jpeg:https://visitjaycounty.com/wp-content/uploads/HARNES-RACING-PIC.jpg
END:VEVENT
BEGIN:VEVENT
DTSTART;TZID=America/Indiana/Indianapolis:20240803T120000
DTEND;TZID=America/Indiana/Indianapolis:20240803T170000
DTSTAMP:20260422T232342
CREATED:20210930T054959Z
LAST-MODIFIED:20220413T061334Z
UID:10000045-1722686400-1722704400@visitjaycounty.com
SUMMARY:Museum of the Soldier
DESCRIPTION:Exhibits include WWI\, WWII\, Vietnam\, Desert Storm and more. First & Third Weekends\, Sat & Sun 12pm-5pm.
URL:https://visitjaycounty.com/event/museum-of-the-soldier/2024-08-03/
LOCATION:IN
ATTACH;FMTTYPE=image/jpeg:https://visitjaycounty.com/wp-content/uploads/museum-soldier.jpeg
END:VEVENT
BEGIN:VEVENT
DTSTART;TZID=America/Indiana/Indianapolis:20240804T120000
DTEND;TZID=America/Indiana/Indianapolis:20240804T170000
DTSTAMP:20260422T232342
CREATED:20230401T184804Z
LAST-MODIFIED:20230401T184804Z
UID:10000131-1722772800-1722790800@visitjaycounty.com
SUMMARY:Museum of the Soldier
DESCRIPTION:Exhibits include WWI\, WWII\, Vietnam\, Desert Storm and more. First & Third Weekends\, Sat & Sun 12pm-5pm.
URL:https://visitjaycounty.com/event/museum-of-the-soldier/2024-08-04/
LOCATION:IN
ATTACH;FMTTYPE=image/jpeg:https://visitjaycounty.com/wp-content/uploads/museum-soldier.jpeg
END:VEVENT
BEGIN:VEVENT
DTSTART;TZID=America/Indiana/Indianapolis:20240808T110000
DTEND;TZID=America/Indiana/Indianapolis:20240808T150000
DTSTAMP:20260422T232342
CREATED:20240522T184309Z
LAST-MODIFIED:20240522T184327Z
UID:10000486-1723114800-1723129200@visitjaycounty.com
SUMMARY:Harness Racing
DESCRIPTION:
URL:https://visitjaycounty.com/event/harness-racing-2/
LOCATION:Jay County Fairgrounds\, 806 E Votaw St\, Portland\, IN\, 47371\, United States
ATTACH;FMTTYPE=image/jpeg:https://visitjaycounty.com/wp-content/uploads/HARNES-RACING-PIC.jpg
END:VEVENT
BEGIN:VEVENT
DTSTART;TZID=America/Indiana/Indianapolis:20240810T100000
DTEND;TZID=America/Indiana/Indianapolis:20240810T180000
DTSTAMP:20260422T232342
CREATED:20240730T142853Z
LAST-MODIFIED:20240730T143045Z
UID:10000498-1723284000-1723312800@visitjaycounty.com
SUMMARY:Redkey Gas Boom Days
DESCRIPTION:Vendors\, reverse dunk tank\, food\, cake walk\, fun for the whole family!!
URL:https://visitjaycounty.com/event/redkey-gas-boom-days-5/
LOCATION:Redkey\, Redkey
ATTACH;FMTTYPE=image/jpeg:https://visitjaycounty.com/wp-content/uploads/GAS-BOOM-1-e1722349719539.jpg
END:VEVENT
BEGIN:VEVENT
DTSTART;TZID=America/Indiana/Indianapolis:20240811T080000
DTEND;TZID=America/Indiana/Indianapolis:20240811T160000
DTSTAMP:20260422T232342
CREATED:20240730T144306Z
LAST-MODIFIED:20240730T144322Z
UID:10000499-1723363200-1723392000@visitjaycounty.com
SUMMARY:Redkey Gas Boom Days
DESCRIPTION:Sunday car show till 4pm\, vendors\, food 5k at 7am\, Illusionist\, pancake & sausage breakfast 7-10am.
URL:https://visitjaycounty.com/event/redkey-gas-boom-days-6/
LOCATION:Downtown Redkey\, Redkey\, Indiana
ATTACH;FMTTYPE=image/jpeg:https://visitjaycounty.com/wp-content/uploads/GAS-BOOM-DAYS-2024.jpg
ORGANIZER;CN="Mark Leavell":MAILTO:Leavell.mark@yahoo.com
END:VEVENT
BEGIN:VEVENT
DTSTART;TZID=America/Indiana/Indianapolis:20240817T120000
DTEND;TZID=America/Indiana/Indianapolis:20240817T170000
DTSTAMP:20260422T232342
CREATED:20230401T184804Z
LAST-MODIFIED:20230401T184804Z
UID:10000089-1723896000-1723914000@visitjaycounty.com
SUMMARY:Museum of the Soldier
DESCRIPTION:Exhibits include WWI\, WWII\, Vietnam\, Desert Storm and more. First & Third Weekends\, Sat & Sun 12pm-5pm.
URL:https://visitjaycounty.com/event/museum-of-the-soldier/2024-08-17/
LOCATION:IN
ATTACH;FMTTYPE=image/jpeg:https://visitjaycounty.com/wp-content/uploads/museum-soldier.jpeg
END:VEVENT
BEGIN:VEVENT
DTSTART;TZID=America/Indiana/Indianapolis:20240817T190000
DTEND;TZID=America/Indiana/Indianapolis:20240817T220000
DTSTAMP:20260422T232342
CREATED:20240605T203318Z
LAST-MODIFIED:20240605T203717Z
UID:10000489-1723921200-1723932000@visitjaycounty.com
SUMMARY:Hank Ruff and the Hellbenders
DESCRIPTION:Presented by the Portland elks Lodge #768\, benefiting the Jay County Cancer Society.
URL:https://visitjaycounty.com/event/hank-ruff-and-the-hellbenders/
LOCATION:Hudson Family Park Amphitheater\, 509 S Wayne Street\, Portland
ATTACH;FMTTYPE=image/jpeg:https://visitjaycounty.com/wp-content/uploads/HANK-RUFF-CONCERT.jpg
END:VEVENT
BEGIN:VEVENT
DTSTART;TZID=America/Indiana/Indianapolis:20240821T080000
DTEND;TZID=America/Indiana/Indianapolis:20240824T170000
DTSTAMP:20260422T232342
CREATED:20240605T204544Z
LAST-MODIFIED:20240605T204604Z
UID:10000490-1724227200-1724518800@visitjaycounty.com
SUMMARY:59th Antique Engine & Tractor Show
DESCRIPTION:The World’s Largest Gas Engine and Tractor Show
URL:https://visitjaycounty.com/event/59th-antique-engine-tractor-show/
LOCATION:Jay County Fairgrounds\, 806 E. Votaw St.\, Portland\, Indiana
ATTACH;FMTTYPE=image/jpeg:https://visitjaycounty.com/wp-content/uploads/RED-TRACTOR.jpg
END:VEVENT
END:VCALENDAR