BEGIN:VCALENDAR
VERSION:2.0
PRODID:-//Visit Jay County - ECPv6.15.20//NONSGML v1.0//EN
CALSCALE:GREGORIAN
METHOD:PUBLISH
X-ORIGINAL-URL:https://visitjaycounty.com
X-WR-CALDESC:Events for Visit Jay County
REFRESH-INTERVAL;VALUE=DURATION:PT1H
X-Robots-Tag:noindex
X-PUBLISHED-TTL:PT1H
BEGIN:VTIMEZONE
TZID:America/Indiana/Indianapolis
BEGIN:DAYLIGHT
TZOFFSETFROM:-0500
TZOFFSETTO:-0400
TZNAME:EDT
DTSTART:20240310T070000
END:DAYLIGHT
BEGIN:STANDARD
TZOFFSETFROM:-0400
TZOFFSETTO:-0500
TZNAME:EST
DTSTART:20241103T060000
END:STANDARD
BEGIN:DAYLIGHT
TZOFFSETFROM:-0500
TZOFFSETTO:-0400
TZNAME:EDT
DTSTART:20250309T070000
END:DAYLIGHT
BEGIN:STANDARD
TZOFFSETFROM:-0400
TZOFFSETTO:-0500
TZNAME:EST
DTSTART:20251102T060000
END:STANDARD
BEGIN:DAYLIGHT
TZOFFSETFROM:-0500
TZOFFSETTO:-0400
TZNAME:EDT
DTSTART:20260308T070000
END:DAYLIGHT
BEGIN:STANDARD
TZOFFSETFROM:-0400
TZOFFSETTO:-0500
TZNAME:EST
DTSTART:20261101T060000
END:STANDARD
END:VTIMEZONE
BEGIN:VEVENT
DTSTART;TZID=America/Indiana/Indianapolis:20250208T100000
DTEND;TZID=America/Indiana/Indianapolis:20250208T160000
DTSTAMP:20260423T120817
CREATED:20250124T164809Z
LAST-MODIFIED:20250124T164835Z
UID:10000513-1739008800-1739030400@visitjaycounty.com
SUMMARY:Vendor/Craft Show
DESCRIPTION:Wide variety of items from thirty-one products to 3-D items\, handmade\, woodworking\, and baked items. Looking for something special for your Valentine\, stop by and pick up a one of a kind gift.
URL:https://visitjaycounty.com/event/vendor-craft-show-2/
LOCATION:Lions Club Civic Center\, 307 E. 100 N.\, Portland\, IN - Indiana\, 47371
ATTACH;FMTTYPE=image/jpeg:https://visitjaycounty.com/wp-content/uploads/UPDATE-VENDOR-FLIER.jpg
ORGANIZER;CN="Jay County Tourism":MAILTO:director@visitjaycounty.com
END:VEVENT
END:VCALENDAR