BEGIN:VCALENDAR
VERSION:2.0
PRODID:-//Visit Jay County - ECPv6.15.20//NONSGML v1.0//EN
CALSCALE:GREGORIAN
METHOD:PUBLISH
X-WR-CALNAME:Visit Jay County
X-ORIGINAL-URL:https://visitjaycounty.com
X-WR-CALDESC:Events for Visit Jay County
REFRESH-INTERVAL;VALUE=DURATION:PT1H
X-Robots-Tag:noindex
X-PUBLISHED-TTL:PT1H
BEGIN:VTIMEZONE
TZID:America/Indiana/Indianapolis
BEGIN:DAYLIGHT
TZOFFSETFROM:-0500
TZOFFSETTO:-0400
TZNAME:EDT
DTSTART:20230312T070000
END:DAYLIGHT
BEGIN:STANDARD
TZOFFSETFROM:-0400
TZOFFSETTO:-0500
TZNAME:EST
DTSTART:20231105T060000
END:STANDARD
BEGIN:DAYLIGHT
TZOFFSETFROM:-0500
TZOFFSETTO:-0400
TZNAME:EDT
DTSTART:20240310T070000
END:DAYLIGHT
BEGIN:STANDARD
TZOFFSETFROM:-0400
TZOFFSETTO:-0500
TZNAME:EST
DTSTART:20241103T060000
END:STANDARD
BEGIN:DAYLIGHT
TZOFFSETFROM:-0500
TZOFFSETTO:-0400
TZNAME:EDT
DTSTART:20250309T070000
END:DAYLIGHT
BEGIN:STANDARD
TZOFFSETFROM:-0400
TZOFFSETTO:-0500
TZNAME:EST
DTSTART:20251102T060000
END:STANDARD
END:VTIMEZONE
BEGIN:VEVENT
DTSTART;TZID=America/Indiana/Indianapolis:20240725T080000
DTEND;TZID=America/Indiana/Indianapolis:20240727T220000
DTSTAMP:20260422T140521
CREATED:20240613T203505Z
LAST-MODIFIED:20240613T203912Z
UID:10000493-1721894400-1722117600@visitjaycounty.com
SUMMARY:Chuck Wagon Races
DESCRIPTION:Looking for a fun family get away? Primitive camping\, food & merchandise vendors\, ATV/golf carts permitted for a fee.
URL:https://visitjaycounty.com/event/chuck-wagon-races/
LOCATION:B&B Farms LLC\, 1914 W 550 N\, Bryant\, Indiana\, 47326
ATTACH;FMTTYPE=image/jpeg:https://visitjaycounty.com/wp-content/uploads/CHUCK-WAGON-RACES-2024.jpg
END:VEVENT
END:VCALENDAR