BEGIN:VCALENDAR
VERSION:2.0
PRODID:-//Visit Jay County - ECPv6.15.20//NONSGML v1.0//EN
CALSCALE:GREGORIAN
METHOD:PUBLISH
X-ORIGINAL-URL:https://visitjaycounty.com
X-WR-CALDESC:Events for Visit Jay County
REFRESH-INTERVAL;VALUE=DURATION:PT1H
X-Robots-Tag:noindex
X-PUBLISHED-TTL:PT1H
BEGIN:VTIMEZONE
TZID:America/Indiana/Indianapolis
BEGIN:DAYLIGHT
TZOFFSETFROM:-0500
TZOFFSETTO:-0400
TZNAME:EDT
DTSTART:20200308T070000
END:DAYLIGHT
BEGIN:STANDARD
TZOFFSETFROM:-0400
TZOFFSETTO:-0500
TZNAME:EST
DTSTART:20201101T060000
END:STANDARD
BEGIN:DAYLIGHT
TZOFFSETFROM:-0500
TZOFFSETTO:-0400
TZNAME:EDT
DTSTART:20210314T070000
END:DAYLIGHT
BEGIN:STANDARD
TZOFFSETFROM:-0400
TZOFFSETTO:-0500
TZNAME:EST
DTSTART:20211107T060000
END:STANDARD
BEGIN:DAYLIGHT
TZOFFSETFROM:-0500
TZOFFSETTO:-0400
TZNAME:EDT
DTSTART:20220313T070000
END:DAYLIGHT
BEGIN:STANDARD
TZOFFSETFROM:-0400
TZOFFSETTO:-0500
TZNAME:EST
DTSTART:20221106T060000
END:STANDARD
END:VTIMEZONE
BEGIN:VEVENT
DTSTART;TZID=America/Indiana/Indianapolis:20210514T043000
DTEND;TZID=America/Indiana/Indianapolis:20210515T073000
DTSTAMP:20260421T075751
CREATED:20230402T041953Z
LAST-MODIFIED:20230402T041953Z
UID:10000169-1620966600-1621063800@visitjaycounty.com
SUMMARY:Run for the Fallen
DESCRIPTION:Enters Portland at Freedom Park 4:30 on Friday and leaving Saturday at 7:30 am Freedom Park. 
URL:https://visitjaycounty.com/event/run-for-the-fallen/
LOCATION:Freedom Park\, 231 S Meridian St\, Portland\, Indiana
END:VEVENT
END:VCALENDAR